BEGIN:VCALENDAR
VERSION:2.0
PRODID:-//Centrum Kultury w Piasecznie - ECPv6.15.20//NONSGML v1.0//EN
CALSCALE:GREGORIAN
METHOD:PUBLISH
X-ORIGINAL-URL:https://test.kulturalni.pl
X-WR-CALDESC:Wydarzenia dla Centrum Kultury w Piasecznie
REFRESH-INTERVAL;VALUE=DURATION:PT1H
X-Robots-Tag:noindex
X-PUBLISHED-TTL:PT1H
BEGIN:VTIMEZONE
TZID:Europe/Warsaw
BEGIN:DAYLIGHT
TZOFFSETFROM:+0100
TZOFFSETTO:+0200
TZNAME:CEST
DTSTART:20240331T010000
END:DAYLIGHT
BEGIN:STANDARD
TZOFFSETFROM:+0200
TZOFFSETTO:+0100
TZNAME:CET
DTSTART:20241027T010000
END:STANDARD
BEGIN:DAYLIGHT
TZOFFSETFROM:+0100
TZOFFSETTO:+0200
TZNAME:CEST
DTSTART:20250330T010000
END:DAYLIGHT
BEGIN:STANDARD
TZOFFSETFROM:+0200
TZOFFSETTO:+0100
TZNAME:CET
DTSTART:20251026T010000
END:STANDARD
BEGIN:DAYLIGHT
TZOFFSETFROM:+0100
TZOFFSETTO:+0200
TZNAME:CEST
DTSTART:20260329T010000
END:DAYLIGHT
BEGIN:STANDARD
TZOFFSETFROM:+0200
TZOFFSETTO:+0100
TZNAME:CET
DTSTART:20261025T010000
END:STANDARD
END:VTIMEZONE
BEGIN:VEVENT
DTSTART;TZID=Europe/Warsaw:20250227T180000
DTEND;TZID=Europe/Warsaw:20250227T190000
DTSTAMP:20260423T113210
CREATED:20230614T101651Z
LAST-MODIFIED:20250207T225503Z
UID:20364-1740679200-1740682800@test.kulturalni.pl
SUMMARY:MUZYCZNE PLENERY. PROPABANDA
DESCRIPTION:MUZYCZNE PLENERY\nPROPABANDA\n12 sierpnia (sobota) 2023\ngodz. 18:00\nPiaseczno\, Skwer Kisiela \nSłowiańskość i TUTEJSZOŚĆ są wspólnym mianownikiem wszystkich poszukiwań Propabandy.\nInspiracją jest kultura i muzyka tej części naszego kontynentu\, która przez lata\, żyła w zapomnieniu za „żelazną kurtyną. Naszą podróżą obejmujemy krainę zwaną kiedyś pogardliwie Demoludami a dziś dyplomatycznie Prawym Płucem Europy. Polskę z jej otwartością\, Bałkany z ich szaleństwem\, Mołdawię z jej samotnością\, Transylwanię\, Węgry\, Słowację\, Ukrainę…Karmieni od lat tradycją muzyczną zachodu w opuszczonych murach środkowo-wschodniej Europy rozbiliśmy obóz. Świadomi własnych korzeni\, zawieszeni między współczesnością i tradycją czerpiemy dźwięki z naszych głów… \nfot. wydarzenia Joanna Maroszek – Open Sky Studio  \nWydarzenie na FB: www.facebook.com/events/637494215098589/ \n \n  \n 
URL:https://test.kulturalni.pl/wydarzenie/muzyczne-plenery-propabanda/
LOCATION:Skwer Kisiela\, Piaseczno\, Kościuszki\, Piaseczno\, mazowieckie\, 05-500\, Polska
CATEGORIES:dorośli,koncerty,młodzież
ATTACH;FMTTYPE=image/jpeg:https://test.kulturalni.pl/wp-content/uploads/2023/06/Propabanda.jpg
END:VEVENT
END:VCALENDAR