BEGIN:VCALENDAR
VERSION:2.0
PRODID:-//Centrum Kultury w Piasecznie - ECPv6.15.20//NONSGML v1.0//EN
CALSCALE:GREGORIAN
METHOD:PUBLISH
X-WR-CALNAME:Centrum Kultury w Piasecznie
X-ORIGINAL-URL:https://test.kulturalni.pl
X-WR-CALDESC:Wydarzenia dla Centrum Kultury w Piasecznie
REFRESH-INTERVAL;VALUE=DURATION:PT1H
X-Robots-Tag:noindex
X-PUBLISHED-TTL:PT1H
BEGIN:VTIMEZONE
TZID:Europe/Warsaw
BEGIN:DAYLIGHT
TZOFFSETFROM:+0100
TZOFFSETTO:+0200
TZNAME:CEST
DTSTART:19770403T000000
END:DAYLIGHT
BEGIN:STANDARD
TZOFFSETFROM:+0200
TZOFFSETTO:+0100
TZNAME:CET
DTSTART:19770925T000000
END:STANDARD
BEGIN:DAYLIGHT
TZOFFSETFROM:+0100
TZOFFSETTO:+0200
TZNAME:CEST
DTSTART:19780402T000000
END:DAYLIGHT
BEGIN:STANDARD
TZOFFSETFROM:+0200
TZOFFSETTO:+0100
TZNAME:CET
DTSTART:19781001T000000
END:STANDARD
BEGIN:DAYLIGHT
TZOFFSETFROM:+0100
TZOFFSETTO:+0200
TZNAME:CEST
DTSTART:19790401T000000
END:DAYLIGHT
BEGIN:STANDARD
TZOFFSETFROM:+0200
TZOFFSETTO:+0100
TZNAME:CET
DTSTART:19790930T000000
END:STANDARD
BEGIN:DAYLIGHT
TZOFFSETFROM:+0100
TZOFFSETTO:+0200
TZNAME:CEST
DTSTART:19800406T000000
END:DAYLIGHT
BEGIN:STANDARD
TZOFFSETFROM:+0200
TZOFFSETTO:+0100
TZNAME:CET
DTSTART:19800928T000000
END:STANDARD
BEGIN:DAYLIGHT
TZOFFSETFROM:+0100
TZOFFSETTO:+0200
TZNAME:CEST
DTSTART:19810329T000000
END:DAYLIGHT
BEGIN:STANDARD
TZOFFSETFROM:+0200
TZOFFSETTO:+0100
TZNAME:CET
DTSTART:19810927T000000
END:STANDARD
BEGIN:DAYLIGHT
TZOFFSETFROM:+0100
TZOFFSETTO:+0200
TZNAME:CEST
DTSTART:19820328T000000
END:DAYLIGHT
BEGIN:STANDARD
TZOFFSETFROM:+0200
TZOFFSETTO:+0100
TZNAME:CET
DTSTART:19820926T000000
END:STANDARD
BEGIN:DAYLIGHT
TZOFFSETFROM:+0100
TZOFFSETTO:+0200
TZNAME:CEST
DTSTART:19830327T000000
END:DAYLIGHT
BEGIN:STANDARD
TZOFFSETFROM:+0200
TZOFFSETTO:+0100
TZNAME:CET
DTSTART:19830925T000000
END:STANDARD
BEGIN:DAYLIGHT
TZOFFSETFROM:+0100
TZOFFSETTO:+0200
TZNAME:CEST
DTSTART:19840325T000000
END:DAYLIGHT
BEGIN:STANDARD
TZOFFSETFROM:+0200
TZOFFSETTO:+0100
TZNAME:CET
DTSTART:19840930T000000
END:STANDARD
BEGIN:DAYLIGHT
TZOFFSETFROM:+0100
TZOFFSETTO:+0200
TZNAME:CEST
DTSTART:19850331T000000
END:DAYLIGHT
BEGIN:STANDARD
TZOFFSETFROM:+0200
TZOFFSETTO:+0100
TZNAME:CET
DTSTART:19850929T000000
END:STANDARD
BEGIN:DAYLIGHT
TZOFFSETFROM:+0100
TZOFFSETTO:+0200
TZNAME:CEST
DTSTART:19860330T000000
END:DAYLIGHT
BEGIN:STANDARD
TZOFFSETFROM:+0200
TZOFFSETTO:+0100
TZNAME:CET
DTSTART:19860928T000000
END:STANDARD
BEGIN:DAYLIGHT
TZOFFSETFROM:+0100
TZOFFSETTO:+0200
TZNAME:CEST
DTSTART:19870329T000000
END:DAYLIGHT
BEGIN:STANDARD
TZOFFSETFROM:+0200
TZOFFSETTO:+0100
TZNAME:CET
DTSTART:19870927T000000
END:STANDARD
BEGIN:DAYLIGHT
TZOFFSETFROM:+0100
TZOFFSETTO:+0200
TZNAME:CEST
DTSTART:19880327T010000
END:DAYLIGHT
BEGIN:STANDARD
TZOFFSETFROM:+0200
TZOFFSETTO:+0100
TZNAME:CET
DTSTART:19880925T010000
END:STANDARD
BEGIN:DAYLIGHT
TZOFFSETFROM:+0100
TZOFFSETTO:+0200
TZNAME:CEST
DTSTART:19890326T010000
END:DAYLIGHT
BEGIN:STANDARD
TZOFFSETFROM:+0200
TZOFFSETTO:+0100
TZNAME:CET
DTSTART:19890924T010000
END:STANDARD
BEGIN:DAYLIGHT
TZOFFSETFROM:+0100
TZOFFSETTO:+0200
TZNAME:CEST
DTSTART:19900325T010000
END:DAYLIGHT
BEGIN:STANDARD
TZOFFSETFROM:+0200
TZOFFSETTO:+0100
TZNAME:CET
DTSTART:19900930T010000
END:STANDARD
BEGIN:DAYLIGHT
TZOFFSETFROM:+0100
TZOFFSETTO:+0200
TZNAME:CEST
DTSTART:19910331T010000
END:DAYLIGHT
BEGIN:STANDARD
TZOFFSETFROM:+0200
TZOFFSETTO:+0100
TZNAME:CET
DTSTART:19910929T010000
END:STANDARD
BEGIN:DAYLIGHT
TZOFFSETFROM:+0100
TZOFFSETTO:+0200
TZNAME:CEST
DTSTART:19920329T010000
END:DAYLIGHT
BEGIN:STANDARD
TZOFFSETFROM:+0200
TZOFFSETTO:+0100
TZNAME:CET
DTSTART:19920927T010000
END:STANDARD
BEGIN:DAYLIGHT
TZOFFSETFROM:+0100
TZOFFSETTO:+0200
TZNAME:CEST
DTSTART:19930328T010000
END:DAYLIGHT
BEGIN:STANDARD
TZOFFSETFROM:+0200
TZOFFSETTO:+0100
TZNAME:CET
DTSTART:19930926T010000
END:STANDARD
BEGIN:DAYLIGHT
TZOFFSETFROM:+0100
TZOFFSETTO:+0200
TZNAME:CEST
DTSTART:19940327T010000
END:DAYLIGHT
BEGIN:STANDARD
TZOFFSETFROM:+0200
TZOFFSETTO:+0100
TZNAME:CET
DTSTART:19940925T010000
END:STANDARD
BEGIN:DAYLIGHT
TZOFFSETFROM:+0100
TZOFFSETTO:+0200
TZNAME:CEST
DTSTART:19950326T010000
END:DAYLIGHT
BEGIN:STANDARD
TZOFFSETFROM:+0200
TZOFFSETTO:+0100
TZNAME:CET
DTSTART:19950924T010000
END:STANDARD
BEGIN:DAYLIGHT
TZOFFSETFROM:+0100
TZOFFSETTO:+0200
TZNAME:CEST
DTSTART:19960331T010000
END:DAYLIGHT
BEGIN:STANDARD
TZOFFSETFROM:+0200
TZOFFSETTO:+0100
TZNAME:CET
DTSTART:19961027T010000
END:STANDARD
BEGIN:DAYLIGHT
TZOFFSETFROM:+0100
TZOFFSETTO:+0200
TZNAME:CEST
DTSTART:19970330T010000
END:DAYLIGHT
BEGIN:STANDARD
TZOFFSETFROM:+0200
TZOFFSETTO:+0100
TZNAME:CET
DTSTART:19971026T010000
END:STANDARD
BEGIN:DAYLIGHT
TZOFFSETFROM:+0100
TZOFFSETTO:+0200
TZNAME:CEST
DTSTART:19980329T010000
END:DAYLIGHT
BEGIN:STANDARD
TZOFFSETFROM:+0200
TZOFFSETTO:+0100
TZNAME:CET
DTSTART:19981025T010000
END:STANDARD
BEGIN:DAYLIGHT
TZOFFSETFROM:+0100
TZOFFSETTO:+0200
TZNAME:CEST
DTSTART:19990328T010000
END:DAYLIGHT
BEGIN:STANDARD
TZOFFSETFROM:+0200
TZOFFSETTO:+0100
TZNAME:CET
DTSTART:19991031T010000
END:STANDARD
BEGIN:DAYLIGHT
TZOFFSETFROM:+0100
TZOFFSETTO:+0200
TZNAME:CEST
DTSTART:20000326T010000
END:DAYLIGHT
BEGIN:STANDARD
TZOFFSETFROM:+0200
TZOFFSETTO:+0100
TZNAME:CET
DTSTART:20001029T010000
END:STANDARD
BEGIN:DAYLIGHT
TZOFFSETFROM:+0100
TZOFFSETTO:+0200
TZNAME:CEST
DTSTART:20010325T010000
END:DAYLIGHT
BEGIN:STANDARD
TZOFFSETFROM:+0200
TZOFFSETTO:+0100
TZNAME:CET
DTSTART:20011028T010000
END:STANDARD
BEGIN:DAYLIGHT
TZOFFSETFROM:+0100
TZOFFSETTO:+0200
TZNAME:CEST
DTSTART:20020331T010000
END:DAYLIGHT
BEGIN:STANDARD
TZOFFSETFROM:+0200
TZOFFSETTO:+0100
TZNAME:CET
DTSTART:20021027T010000
END:STANDARD
BEGIN:DAYLIGHT
TZOFFSETFROM:+0100
TZOFFSETTO:+0200
TZNAME:CEST
DTSTART:20030330T010000
END:DAYLIGHT
BEGIN:STANDARD
TZOFFSETFROM:+0200
TZOFFSETTO:+0100
TZNAME:CET
DTSTART:20031026T010000
END:STANDARD
BEGIN:DAYLIGHT
TZOFFSETFROM:+0100
TZOFFSETTO:+0200
TZNAME:CEST
DTSTART:20040328T010000
END:DAYLIGHT
BEGIN:STANDARD
TZOFFSETFROM:+0200
TZOFFSETTO:+0100
TZNAME:CET
DTSTART:20041031T010000
END:STANDARD
BEGIN:DAYLIGHT
TZOFFSETFROM:+0100
TZOFFSETTO:+0200
TZNAME:CEST
DTSTART:20050327T010000
END:DAYLIGHT
BEGIN:STANDARD
TZOFFSETFROM:+0200
TZOFFSETTO:+0100
TZNAME:CET
DTSTART:20051030T010000
END:STANDARD
BEGIN:DAYLIGHT
TZOFFSETFROM:+0100
TZOFFSETTO:+0200
TZNAME:CEST
DTSTART:20060326T010000
END:DAYLIGHT
BEGIN:STANDARD
TZOFFSETFROM:+0200
TZOFFSETTO:+0100
TZNAME:CET
DTSTART:20061029T010000
END:STANDARD
BEGIN:DAYLIGHT
TZOFFSETFROM:+0100
TZOFFSETTO:+0200
TZNAME:CEST
DTSTART:20070325T010000
END:DAYLIGHT
BEGIN:STANDARD
TZOFFSETFROM:+0200
TZOFFSETTO:+0100
TZNAME:CET
DTSTART:20071028T010000
END:STANDARD
BEGIN:DAYLIGHT
TZOFFSETFROM:+0100
TZOFFSETTO:+0200
TZNAME:CEST
DTSTART:20080330T010000
END:DAYLIGHT
BEGIN:STANDARD
TZOFFSETFROM:+0200
TZOFFSETTO:+0100
TZNAME:CET
DTSTART:20081026T010000
END:STANDARD
BEGIN:DAYLIGHT
TZOFFSETFROM:+0100
TZOFFSETTO:+0200
TZNAME:CEST
DTSTART:20090329T010000
END:DAYLIGHT
BEGIN:STANDARD
TZOFFSETFROM:+0200
TZOFFSETTO:+0100
TZNAME:CET
DTSTART:20091025T010000
END:STANDARD
BEGIN:DAYLIGHT
TZOFFSETFROM:+0100
TZOFFSETTO:+0200
TZNAME:CEST
DTSTART:20100328T010000
END:DAYLIGHT
BEGIN:STANDARD
TZOFFSETFROM:+0200
TZOFFSETTO:+0100
TZNAME:CET
DTSTART:20101031T010000
END:STANDARD
BEGIN:DAYLIGHT
TZOFFSETFROM:+0100
TZOFFSETTO:+0200
TZNAME:CEST
DTSTART:20110327T010000
END:DAYLIGHT
BEGIN:STANDARD
TZOFFSETFROM:+0200
TZOFFSETTO:+0100
TZNAME:CET
DTSTART:20111030T010000
END:STANDARD
BEGIN:DAYLIGHT
TZOFFSETFROM:+0100
TZOFFSETTO:+0200
TZNAME:CEST
DTSTART:20120325T010000
END:DAYLIGHT
BEGIN:STANDARD
TZOFFSETFROM:+0200
TZOFFSETTO:+0100
TZNAME:CET
DTSTART:20121028T010000
END:STANDARD
BEGIN:DAYLIGHT
TZOFFSETFROM:+0100
TZOFFSETTO:+0200
TZNAME:CEST
DTSTART:20130331T010000
END:DAYLIGHT
BEGIN:STANDARD
TZOFFSETFROM:+0200
TZOFFSETTO:+0100
TZNAME:CET
DTSTART:20131027T010000
END:STANDARD
BEGIN:DAYLIGHT
TZOFFSETFROM:+0100
TZOFFSETTO:+0200
TZNAME:CEST
DTSTART:20140330T010000
END:DAYLIGHT
BEGIN:STANDARD
TZOFFSETFROM:+0200
TZOFFSETTO:+0100
TZNAME:CET
DTSTART:20141026T010000
END:STANDARD
BEGIN:DAYLIGHT
TZOFFSETFROM:+0100
TZOFFSETTO:+0200
TZNAME:CEST
DTSTART:20150329T010000
END:DAYLIGHT
BEGIN:STANDARD
TZOFFSETFROM:+0200
TZOFFSETTO:+0100
TZNAME:CET
DTSTART:20151025T010000
END:STANDARD
BEGIN:DAYLIGHT
TZOFFSETFROM:+0100
TZOFFSETTO:+0200
TZNAME:CEST
DTSTART:20160327T010000
END:DAYLIGHT
BEGIN:STANDARD
TZOFFSETFROM:+0200
TZOFFSETTO:+0100
TZNAME:CET
DTSTART:20161030T010000
END:STANDARD
BEGIN:DAYLIGHT
TZOFFSETFROM:+0100
TZOFFSETTO:+0200
TZNAME:CEST
DTSTART:20170326T010000
END:DAYLIGHT
BEGIN:STANDARD
TZOFFSETFROM:+0200
TZOFFSETTO:+0100
TZNAME:CET
DTSTART:20171029T010000
END:STANDARD
BEGIN:DAYLIGHT
TZOFFSETFROM:+0100
TZOFFSETTO:+0200
TZNAME:CEST
DTSTART:20180325T010000
END:DAYLIGHT
BEGIN:STANDARD
TZOFFSETFROM:+0200
TZOFFSETTO:+0100
TZNAME:CET
DTSTART:20181028T010000
END:STANDARD
BEGIN:DAYLIGHT
TZOFFSETFROM:+0100
TZOFFSETTO:+0200
TZNAME:CEST
DTSTART:20190331T010000
END:DAYLIGHT
BEGIN:STANDARD
TZOFFSETFROM:+0200
TZOFFSETTO:+0100
TZNAME:CET
DTSTART:20191027T010000
END:STANDARD
BEGIN:DAYLIGHT
TZOFFSETFROM:+0100
TZOFFSETTO:+0200
TZNAME:CEST
DTSTART:20200329T010000
END:DAYLIGHT
BEGIN:STANDARD
TZOFFSETFROM:+0200
TZOFFSETTO:+0100
TZNAME:CET
DTSTART:20201025T010000
END:STANDARD
BEGIN:DAYLIGHT
TZOFFSETFROM:+0100
TZOFFSETTO:+0200
TZNAME:CEST
DTSTART:20210328T010000
END:DAYLIGHT
BEGIN:STANDARD
TZOFFSETFROM:+0200
TZOFFSETTO:+0100
TZNAME:CET
DTSTART:20211031T010000
END:STANDARD
BEGIN:DAYLIGHT
TZOFFSETFROM:+0100
TZOFFSETTO:+0200
TZNAME:CEST
DTSTART:20220327T010000
END:DAYLIGHT
BEGIN:STANDARD
TZOFFSETFROM:+0200
TZOFFSETTO:+0100
TZNAME:CET
DTSTART:20221030T010000
END:STANDARD
BEGIN:DAYLIGHT
TZOFFSETFROM:+0100
TZOFFSETTO:+0200
TZNAME:CEST
DTSTART:20230326T010000
END:DAYLIGHT
BEGIN:STANDARD
TZOFFSETFROM:+0200
TZOFFSETTO:+0100
TZNAME:CET
DTSTART:20231029T010000
END:STANDARD
BEGIN:DAYLIGHT
TZOFFSETFROM:+0100
TZOFFSETTO:+0200
TZNAME:CEST
DTSTART:20240331T010000
END:DAYLIGHT
BEGIN:STANDARD
TZOFFSETFROM:+0200
TZOFFSETTO:+0100
TZNAME:CET
DTSTART:20241027T010000
END:STANDARD
BEGIN:DAYLIGHT
TZOFFSETFROM:+0100
TZOFFSETTO:+0200
TZNAME:CEST
DTSTART:20250330T010000
END:DAYLIGHT
BEGIN:STANDARD
TZOFFSETFROM:+0200
TZOFFSETTO:+0100
TZNAME:CET
DTSTART:20251026T010000
END:STANDARD
BEGIN:DAYLIGHT
TZOFFSETFROM:+0100
TZOFFSETTO:+0200
TZNAME:CEST
DTSTART:20260329T010000
END:DAYLIGHT
BEGIN:STANDARD
TZOFFSETFROM:+0200
TZOFFSETTO:+0100
TZNAME:CET
DTSTART:20261025T010000
END:STANDARD
END:VTIMEZONE
BEGIN:VEVENT
DTSTART;TZID=Europe/Warsaw:20250227T180000
DTEND;TZID=Europe/Warsaw:20250227T190000
DTSTAMP:20260422T181516
CREATED:20230614T101651Z
LAST-MODIFIED:20250207T225503Z
UID:20364-1740679200-1740682800@test.kulturalni.pl
SUMMARY:MUZYCZNE PLENERY. PROPABANDA
DESCRIPTION:MUZYCZNE PLENERY\nPROPABANDA\n12 sierpnia (sobota) 2023\ngodz. 18:00\nPiaseczno\, Skwer Kisiela \nSłowiańskość i TUTEJSZOŚĆ są wspólnym mianownikiem wszystkich poszukiwań Propabandy.\nInspiracją jest kultura i muzyka tej części naszego kontynentu\, która przez lata\, żyła w zapomnieniu za „żelazną kurtyną. Naszą podróżą obejmujemy krainę zwaną kiedyś pogardliwie Demoludami a dziś dyplomatycznie Prawym Płucem Europy. Polskę z jej otwartością\, Bałkany z ich szaleństwem\, Mołdawię z jej samotnością\, Transylwanię\, Węgry\, Słowację\, Ukrainę…Karmieni od lat tradycją muzyczną zachodu w opuszczonych murach środkowo-wschodniej Europy rozbiliśmy obóz. Świadomi własnych korzeni\, zawieszeni między współczesnością i tradycją czerpiemy dźwięki z naszych głów… \nfot. wydarzenia Joanna Maroszek – Open Sky Studio  \nWydarzenie na FB: www.facebook.com/events/637494215098589/ \n \n  \n 
URL:https://test.kulturalni.pl/wydarzenie/muzyczne-plenery-propabanda/
LOCATION:Skwer Kisiela\, Piaseczno\, Kościuszki\, Piaseczno\, mazowieckie\, 05-500\, Polska
CATEGORIES:młodzież,dorośli,koncerty
ATTACH;FMTTYPE=image/jpeg:https://test.kulturalni.pl/wp-content/uploads/2023/06/Propabanda.jpg
END:VEVENT
BEGIN:VEVENT
DTSTART;TZID=Europe/Warsaw:20250224T100000
DTEND;TZID=Europe/Warsaw:20250224T140000
DTSTAMP:20260422T181516
CREATED:20230613T101510Z
LAST-MODIFIED:20250207T225439Z
UID:20323-1740391200-1740405600@test.kulturalni.pl
SUMMARY:ULICAMI PIASECZNA. SPACER MIEJSKI I PODMIEJSKI. Szlakiem patriotycznym
DESCRIPTION:ULICAMI PIASECZNA. SPACER MIEJSKI I PODMIEJSKI\nSzlakiem patriotycznym\n13 sierpnia (niedziela) 2023\ngodz. 10:00\nwstęp wolny\nprowadzenie – Dorota Zając\nzbiórka: ul. Kościuszki 49 (przed Domem Kultury)\nkoniec: PKP Ustanówek\nczas trwania: ok 4 godziny \n„ULICAMI PIASECZNA” to cykl spacerów miejskich i podmiejskich. Wycieczki\, podczas których przewodnik opowiada o wydarzeniach\, mieszkańcach\, zabytkach\, odkrywa ciekawostki z życia miasta. Podczas podróży sentymentalnej przybliżymy Wam miejsca\, ulice\, domy – ich mieszkańców\, zabytkowe obiekty\, wydarzenia jakie miały tam miejsce\, a także ciekawostki i tajemnice z nimi związane. Społeczność gminy Piaseczno to coraz większa liczba nowych osób\, które z tym miastem wiążą obecnie swoje życie. Sprowadzają się tu z różnych zakątków Polski. Zależy nam\, aby mieszkańcy poznali miejsce w którym żyją. Uczestnictwo w spacerze\, poznanie najbliższej okolicy – ulicy na której mieszkam\, miejsca gdzie chodzę na spacery\, pobudzić może poczucie tożsamości z miastem i przynależności do lokalnej społeczności. \nWydarzenie na FB: www.facebook.com/events/565606562435329/
URL:https://test.kulturalni.pl/wydarzenie/ulicami-piaseczna-spacer-miejski-i-podmiejski-szlakiem-patriotycznym/
LOCATION:Dom Kultury\, Kościuszki 49\, Piaseczno\, mazowieckie\, 05-500\, Polska
CATEGORIES:dzieci,młodzież,dorośli,spacery
ATTACH;FMTTYPE=image/jpeg:https://test.kulturalni.pl/wp-content/uploads/2023/06/BANER-spacery-LATO.jpg
END:VEVENT
BEGIN:VEVENT
DTSTART;TZID=Europe/Warsaw:20250217T180000
DTEND;TZID=Europe/Warsaw:20250223T220000
DTSTAMP:20260422T181516
CREATED:20230707T111419Z
LAST-MODIFIED:20250207T231037Z
UID:20518-1739815200-1740348000@test.kulturalni.pl
SUMMARY:Jam session w Józefosławiu
DESCRIPTION:JAM SESSION W JÓZEFOSŁAWIU\nczwartki\, godz. 20.00\nwstęp wolny\n28 września\n26 października\n30 listopada\n21 grudnia\nKlub Kultury w Józefosławiu\, ul. Julianowska 67A \nSpotkania integracyjno-muzyczne dla amatorów i muzyków zawodowych \nKontynuujemy spotkania w ramach sceny otwartej dla muzyków zawodowych i amatorów. Warsztaty mające na celu integrację środowiska muzycznego w regionie. Zapraszamy wszystkich chętnych z instrumentami. \nWydarzenie na FB: www.facebook.com/events/282910347593797/282910360927129/ \n \n 
URL:https://test.kulturalni.pl/wydarzenie/jam-session-w-jozefoslawiu-7/
LOCATION:Klub Kultury w Józefosławiu\, Julianowska 67A\, Józefosław\, mazowieckie\, 05-509\, Polska
CATEGORIES:młodzież,dorośli,spotkania,warsztaty
ATTACH;FMTTYPE=image/jpeg:https://test.kulturalni.pl/wp-content/uploads/2020/10/BANER.jpg
END:VEVENT
BEGIN:VEVENT
DTSTART;TZID=Europe/Warsaw:20250216T140000
DTEND;TZID=Europe/Warsaw:20250216T210000
DTSTAMP:20260422T181516
CREATED:20230629T101529Z
LAST-MODIFIED:20250207T185941Z
UID:20453-1739714400-1739739600@test.kulturalni.pl
SUMMARY:XI FESTIWAL PIOSENKI DOŁUJĄCEJ
DESCRIPTION:FESTIWAL PIOSENKI DOŁUJĄCEJ\n2 września (sobota) 2023\ngodz. 14.30\nwstęp wolny\nŻabieniec\, Uroczysko Zimne Doły\nPartnerem wydarzenia jest Samorząd Województwa Mazowieckiego \nProgram: \n14.30 – Konkurs \n17.30 – Transgrajpol \n18.30 – Koncert laureatów \n20.00 – Magda Umer z zespołem \nRegulamin konkursu: festiwalpiosenkidolujacej.weebly.com/ \nKontakt: fpd@test.kulturalni.pl \nSmutek – to radość inaczej – oto motto festiwalu stworzone przez znawcę i orędownika twórczości ponurej Andrzeja Poniedzielskiego. Dla rozjaśnienia ponurości dodał on także komentarz; Wydaje się\, że w naszej wersji kultury śródziemnomorskiej smutek to stan absolutnej gotowości organizmu na przyjęcie dowolnej radości. Tak więc człowiek smutny – jest właściwie wstępnie wesoły. \nCzłonkowie Stowarzyszenia Przyjaciół Zalesia Górnego wraz z grupą organizatorów reprezentujących Nadleśnictwo Chojnów i Centrum Kultury w Piasecznie przystąpili do realizacji niecodziennego pomysłu zaprzyjaźnionych artystów Lecha Mateckiego i Stanisława Szczycińskiego – Festiwalu Piosenki Dołującej. Korzystając z niezwykłych walorów przyrodniczych i prowokującej nazwy Zimne Doły realizujemy wydarzenie kulturalne w formie konkursu piosenki. Festiwal z założenia to forma prześmiewcza połączoną z konkursem i nawiązującą do przypisywanego Polakom malkontenctwa i wszechobecnego narzekania na Świat Wokół Nas. Przez formę tego wydarzenia pokazujemy\, że dysponujemy potencjałem twórczym i niezmierzonymi pokładami humoru połączonego z dystansem do siebie samych. To wydarzenie przyczynia się także do spopularyzowania pięknego miejsca. W Festiwalu biorą udział znani artyści reprezentujący główny nurt kabaretowy\, a także środowiska muzyczne\, związane z tzw. piosenką literacką. Ojcem duchowym festiwalu jest Andrzej Poniedzielski\, zaś Dyktatorem Artystycznym jest znany muzyk i kompozytor Stanisław Szczyciński. \nRecital Magdy Umer\nUsłyszymy piosenki Agnieszki Osieckiej\, Jeremiego Przybory\, Wojciecha Młynarskiego\, Magdy Czapińskiej\, Andrzeja Woyciechowskiego\, Andrzeja Trzebińskiego\, Jonasza Kofty\, Jerzego Jurandota\, Konstantego Ildefonsa Gałczyńskiego\, z muzyką Seweryna Krajewskiego\, Krzysztofa Knittla\, Wojciecha Trzcińskiego\, Jarosława Abramowa\, Zygmunta Koniecznego\, Władysława Szpilmana\, Freda Buscaglione\, Bułata Okudżawy\, Jerzego Wasowskiego\, Adama Sławińskiego\, Jerzego Matuszkiewicza.\nMagda Umer to mistrzyni interpretacji piosenki literackiej. Perfekcyjne łączenie muzyki ze słowem sprawiło\, że w latach 70-tych ubiegłego stulecia śpiewane przez Nią piosenki stały się wręcz przebojami.\nArtystce towarzyszy zespół znakomitych młodych muzyków: Paweł Stankiewicz – gitara\, Bartłomniej Krauz – akordeon\,\nMaciej Szczyciński – kontrabas\, Piotr Maślanka – perkusja\, pod kierownictwem pianisty i autora wszystkich\naranżacji Wojciecha Borkowskiego. \nWydarzenie na FB: www.facebook.com/events/176751805195801/
URL:https://test.kulturalni.pl/wydarzenie/festiwal-piosenki-dolujacej/
LOCATION:Uroczysko Zimne Doły\, Żabieniec\, mazowieckie\, 05-500\, Polska
CATEGORIES:dorośli,koncerty,spotkania,konkursy
ATTACH;FMTTYPE=image/png:https://test.kulturalni.pl/wp-content/uploads/2023/06/Festiwal-Piosenki-Dolujacej-Banerr.png
END:VEVENT
BEGIN:VEVENT
DTSTART;TZID=Europe/Warsaw:20250215T120000
DTEND;TZID=Europe/Warsaw:20250215T130000
DTSTAMP:20260422T181516
CREATED:20230710T122517Z
LAST-MODIFIED:20250207T185806Z
UID:20539-1739620800-1739624400@test.kulturalni.pl
SUMMARY:Klubowe Bajeczki
DESCRIPTION:KLUBOWE BAJECZKI\nprojekcje dla dzieci\nsoboty\, godz. 12.00\n21 października\n18 listopada\n16 grudnia\nwstęp wolny\nobowiązują wejściówki dla dzieci\nKlub Kultury w Józefosławiu\, ul. Julianowska 67A \nZapraszamy w podróż w przeszłość\, do czasów dzieciństwa. Kontynuujemy cykl Klubowych Bajeczek\, gdzie na projektorze „Jacek” będziemy wyświetlać bajki z kliszy. Dla młodych widzów to coś nowego\, dla dorosłych wspomnienia z dzieciństwa. Nasze wydarzenia\, łączą pokolenia.\nNa projekcję zapraszamy dzieci w wieku 3 – 7 lat. Prosimy żeby podczas wydarzenia wszystkie dzieci pozostawały pod opieką. Podczas projekcji konkursy z nagrodami dla najmłodszych. \nWydarzenie na FB: www.facebook.com/events/952491546027024/952491559360356/
URL:https://test.kulturalni.pl/wydarzenie/klubowe-bajeczki-3/
LOCATION:Klub Kultury w Józefosławiu\, Julianowska 67A\, Józefosław\, mazowieckie\, 05-509\, Polska
CATEGORIES:dzieci,spotkania
ATTACH;FMTTYPE=image/jpeg:https://test.kulturalni.pl/wp-content/uploads/2022/09/BANER-5.jpg
END:VEVENT
BEGIN:VEVENT
DTSTART;VALUE=DATE:20250209
DTEND;VALUE=DATE:20250210
DTSTAMP:20260422T181516
CREATED:20250207T225008Z
LAST-MODIFIED:20250207T225903Z
UID:20610-1739059200-1739145599@test.kulturalni.pl
SUMMARY:asdadasdsad
DESCRIPTION:dsajdha ssa jklasj kjasdjasjdkjsadjakjlsjk jskdlj ksajklsaj dsajdkalsj sajdlk jldjsakjdkl jaklsjklj laksjd klsajkdjkls adksadj klsa djaskjdlskajdl askdj lksa djlksajdlksajdl adsajdha ssa jklasj kjasdjasjdkjsadjakjlsjk jskdlj ksajklsaj dsajdkalsj sajdlk jldjsakjdkl jaklsjklj laksjd klsajkdjkls adksadj klsa djaskjdlskajdl askdj lksa djlksajdlksajdl adsajdha ssa jklasj kjasdjasjdkjsadjakjlsjk jskdlj ksajklsaj dsajdkalsj sajdlk jldjsakjdkl jaklsjklj laksjd klsajkdjkls adksadj klsa djaskjdlskajdl askdj lksa djlksajdlksajdl adsajha ssa jklasj kjasdjasjdkjsadjakjlsjk jskdlj ksajklsaj dsajdkalsj sajdlk jldjsakjdkl jaklsjklj laksjd klsajkdjkls adksadj klsa djaskjdlskajdl askdj lksa djlksajdlksajdl adsajdha ssa jklasj kjasdjasjdkjsadjakjlsjk jskdlj ksajklsaj dsajdkalsj sajdlk jldjsakjdkl jaklsjklj laksjd klsajkdjkls adksadj klsa djaskjdlskajdl askdj lksa djlksajdlksajdl a
URL:https://test.kulturalni.pl/wydarzenie/asdadasdsad/
LOCATION:Przystanek Muzyki\, Plac Piłsudskiego 9\, Piaseczno\, mazowieckie\, 05-500
CATEGORIES:dorośli,spotkania
ATTACH;FMTTYPE=image/jpeg:https://test.kulturalni.pl/wp-content/uploads/2023/06/Tkanina-artystyczna.jpg
END:VEVENT
BEGIN:VEVENT
DTSTART;TZID=Europe/Warsaw:20260422T181516
DTEND;TZID=Europe/Warsaw:20260422T181516
DTSTAMP:20260422T181516
CREATED:20260421T101010Z
LAST-MODIFIED:20260421T101010Z
UID:20625-0-0@test.kulturalni.pl
SUMMARY:FILHARMONIA NARODOWA - SPOTKANIA Z MUZYKĄ
DESCRIPTION:
URL:https://test.kulturalni.pl/wydarzenie/filharmonia-narodowa-spotkania-z-muzyka/
LOCATION:mazowieckie
END:VEVENT
END:VCALENDAR