BEGIN:VCALENDAR
VERSION:2.0
PRODID:-//Centrum Kultury w Piasecznie - ECPv6.15.20//NONSGML v1.0//EN
CALSCALE:GREGORIAN
METHOD:PUBLISH
X-ORIGINAL-URL:https://test.kulturalni.pl
X-WR-CALDESC:Wydarzenia dla Centrum Kultury w Piasecznie
REFRESH-INTERVAL;VALUE=DURATION:PT1H
X-Robots-Tag:noindex
X-PUBLISHED-TTL:PT1H
BEGIN:VTIMEZONE
TZID:Europe/Warsaw
BEGIN:DAYLIGHT
TZOFFSETFROM:+0100
TZOFFSETTO:+0200
TZNAME:CEST
DTSTART:20250330T010000
END:DAYLIGHT
BEGIN:STANDARD
TZOFFSETFROM:+0200
TZOFFSETTO:+0100
TZNAME:CET
DTSTART:20251026T010000
END:STANDARD
BEGIN:DAYLIGHT
TZOFFSETFROM:+0100
TZOFFSETTO:+0200
TZNAME:CEST
DTSTART:20260329T010000
END:DAYLIGHT
BEGIN:STANDARD
TZOFFSETFROM:+0200
TZOFFSETTO:+0100
TZNAME:CET
DTSTART:20261025T010000
END:STANDARD
BEGIN:DAYLIGHT
TZOFFSETFROM:+0100
TZOFFSETTO:+0200
TZNAME:CEST
DTSTART:20270328T010000
END:DAYLIGHT
BEGIN:STANDARD
TZOFFSETFROM:+0200
TZOFFSETTO:+0100
TZNAME:CET
DTSTART:20271031T010000
END:STANDARD
END:VTIMEZONE
BEGIN:VEVENT
DTSTART;TZID=Europe/Warsaw:20260502T180000
DTEND;TZID=Europe/Warsaw:20260502T180000
DTSTAMP:20260423T001210
CREATED:20260421T101010Z
LAST-MODIFIED:20260421T101010Z
UID:20624-1777744800-1777744800@test.kulturalni.pl
SUMMARY:PLENEROWE SILENT DISCO
DESCRIPTION:
URL:https://test.kulturalni.pl/wydarzenie/plenerowe-silent-disco/
LOCATION:mazowieckie
END:VEVENT
BEGIN:VEVENT
DTSTART;TZID=Europe/Warsaw:20260505T200000
DTEND;TZID=Europe/Warsaw:20260505T200000
DTSTAMP:20260423T001210
CREATED:20260421T101010Z
LAST-MODIFIED:20260421T101010Z
UID:20626-1778011200-1778011200@test.kulturalni.pl
SUMMARY:JAM OBSESSION
DESCRIPTION:
URL:https://test.kulturalni.pl/wydarzenie/jam-obsession/
LOCATION:mazowieckie
END:VEVENT
BEGIN:VEVENT
DTSTART;TZID=Europe/Warsaw:20260524T160000
DTEND;TZID=Europe/Warsaw:20260524T160000
DTSTAMP:20260423T001210
CREATED:20260421T101010Z
LAST-MODIFIED:20260421T101010Z
UID:20627-1779638400-1779638400@test.kulturalni.pl
SUMMARY:TEATR SUPER TROUPER – LEGENDA O WARSZAWSKIM BAZYLISZKU
DESCRIPTION:
URL:https://test.kulturalni.pl/wydarzenie/teatr-super-trouper-legenda-o-warszawskim-bazyliszku/
LOCATION:mazowieckie
END:VEVENT
BEGIN:VEVENT
DTSTART;TZID=Europe/Warsaw:20260527T180000
DTEND;TZID=Europe/Warsaw:20260527T180000
DTSTAMP:20260423T001210
CREATED:20260421T101011Z
LAST-MODIFIED:20260421T101011Z
UID:20628-1779904800-1779904800@test.kulturalni.pl
SUMMARY:NATURALNE ŚWIECE – WARSZTATY RĘKODZIELNICZE
DESCRIPTION:
URL:https://test.kulturalni.pl/wydarzenie/naturalne-swiece-warsztaty-rekodzielnicze/
LOCATION:mazowieckie
END:VEVENT
BEGIN:VEVENT
DTSTART;TZID=Europe/Warsaw:20260531T080000
DTEND;TZID=Europe/Warsaw:20260531T170000
DTSTAMP:20260423T001210
CREATED:20260421T095705Z
LAST-MODIFIED:20260421T095705Z
UID:20616-1780214400-1780246800@test.kulturalni.pl
SUMMARY:PIRACKI DZIEŃ DZIECKA
DESCRIPTION:PIRACKI DZIEŃ DZIECKA\n31 maja (niedziela) 2026\ngodz. 13.00\nwstęp wolny\nPiaseczno\, Park im. Książąt Mazowieckich. Wstęp wolny \nKoordynatorka – Katarzyna Resiak\, tel. 519 388 690
URL:https://test.kulturalni.pl/wydarzenie/piracki-dzien-dziecka/
LOCATION:Park Miejski w Piasecznie\, Chyliczkowska 16\, Piaseczno\, mazowieckie\, 05-500\, Polska
CATEGORIES:dzieci,koncerty,spektakle,spotkania,warsztaty,konkursy
ATTACH;FMTTYPE=image/png:https://test.kulturalni.pl/wp-content/uploads/2026/04/Dzien-dziecka.png
END:VEVENT
BEGIN:VEVENT
DTSTART;TZID=Europe/Warsaw:20260531T080000
DTEND;TZID=Europe/Warsaw:20260531T170000
DTSTAMP:20260423T001210
CREATED:20260422T085446Z
LAST-MODIFIED:20260422T085446Z
UID:20713-1780214400-1780246800@test.kulturalni.pl
SUMMARY:test
DESCRIPTION:test test test
URL:https://test.kulturalni.pl/wydarzenie/test/
LOCATION:Boisko KS Hubertus w Zalesiu Górnym\, Pionierów\, Zalesie Górne\, mazowieckie\, 05-540\, Polska
CATEGORIES:dzieci,dorośli,filmy
END:VEVENT
BEGIN:VEVENT
DTSTART;TZID=Europe/Warsaw:20260531T130000
DTEND;TZID=Europe/Warsaw:20260531T130000
DTSTAMP:20260423T001210
CREATED:20260421T101011Z
LAST-MODIFIED:20260421T101011Z
UID:20629-1780232400-1780232400@test.kulturalni.pl
SUMMARY:PIRACKI DZIEŃ DZIECKA
DESCRIPTION:
URL:https://test.kulturalni.pl/wydarzenie/piracki-dzien-dziecka-2/
LOCATION:mazowieckie
END:VEVENT
BEGIN:VEVENT
DTSTART;TZID=Europe/Warsaw:20260531T190000
DTEND;TZID=Europe/Warsaw:20260531T210000
DTSTAMP:20260423T001210
CREATED:20260421T100359Z
LAST-MODIFIED:20260421T100359Z
UID:20619-1780254000-1780261200@test.kulturalni.pl
SUMMARY:JAZZ SESSION Z GWIAZDĄ. PIOTR BARON
DESCRIPTION:JAZZ SESSION Z GWIAZDĄ. PIOTR BARON\n28 maja (czwartek) 2026\ngodz. 20.00\nwstęp wolny\nKlub Kultury w Józefosławiu\, ul. Julianowska 67A \nPiotr Baron – saksofonista\, kompozytor\, bandleader\, pedagog. W ciągu czterdziestoletniej działalności muzycznej współpracował z najwybitniejszymi artystami z Polski\, Europy i USA\, a byli to m.in.: Zbigniew Namysłowski\, Tomasz Stańko\, Henryk Majewski\, Henryk Miśkiewicz\, Jarosław Śmietana\, Wojciech Karolak\, Zbigniew Lewandowski\, Kazimierz Jonkisz\, Krzesimir Dębski\, Janusz Muniak\, Tomasz Szukalski\, Darek „Oles” Oleszkiewicz\, Piotr Wojtasik\, Jan Ptaszyn Wróblewski\, Ray Charles\, Art Farmer\, Billy Harper\, David Murray\, Kevin Mahogany\, Victor Lewis\, Eddie Henderson\, Marvin „Smitty” Smith\, Bobby Watson\, Billy Hart czy Karen Edwards.\nWziął udział w nagraniu ponad 100 płyt\, w tym nagrał jedenaście płyt autorskich. \noraz stały zespół rozgrywający w składzie:\nMagdalena Este – śpiew\nSławomir Mech – fortepian\nNeil Fornalik – gitara\nJerzy Szczerbakow – gitara basowa\nKrzysztof Wawrzyniak – perkusja \nWydarzenie na FB: https://fb.me/e/7ZwlbXw0e
URL:https://test.kulturalni.pl/wydarzenie/jazz-session-z-gwiazda-piotr-baron/
LOCATION:Klub Kultury w Józefosławiu\, Julianowska 67A\, Józefosław\, mazowieckie\, 05-509\, Polska
CATEGORIES:dorośli,koncerty
ATTACH;FMTTYPE=image/png:https://test.kulturalni.pl/wp-content/uploads/2026/04/baron-baner-1.png
END:VEVENT
END:VCALENDAR